BEGIN:VCALENDAR
VERSION:2.0
PRODID:-//Kulturscheune Baiersdorf - ECPv6.15.20//NONSGML v1.0//EN
CALSCALE:GREGORIAN
METHOD:PUBLISH
X-WR-CALNAME:Kulturscheune Baiersdorf
X-ORIGINAL-URL:https://kusch-baiersdorf.de
X-WR-CALDESC:Veranstaltungen für Kulturscheune Baiersdorf
REFRESH-INTERVAL;VALUE=DURATION:PT1H
X-Robots-Tag:noindex
X-PUBLISHED-TTL:PT1H
BEGIN:VTIMEZONE
TZID:Europe/Berlin
BEGIN:DAYLIGHT
TZOFFSETFROM:+0100
TZOFFSETTO:+0200
TZNAME:CEST
DTSTART:20250330T010000
END:DAYLIGHT
BEGIN:STANDARD
TZOFFSETFROM:+0200
TZOFFSETTO:+0100
TZNAME:CET
DTSTART:20251026T010000
END:STANDARD
BEGIN:DAYLIGHT
TZOFFSETFROM:+0100
TZOFFSETTO:+0200
TZNAME:CEST
DTSTART:20260329T010000
END:DAYLIGHT
BEGIN:STANDARD
TZOFFSETFROM:+0200
TZOFFSETTO:+0100
TZNAME:CET
DTSTART:20261025T010000
END:STANDARD
BEGIN:DAYLIGHT
TZOFFSETFROM:+0100
TZOFFSETTO:+0200
TZNAME:CEST
DTSTART:20270328T010000
END:DAYLIGHT
BEGIN:STANDARD
TZOFFSETFROM:+0200
TZOFFSETTO:+0100
TZNAME:CET
DTSTART:20271031T010000
END:STANDARD
END:VTIMEZONE
BEGIN:VTIMEZONE
TZID:Europe/Helsinki
BEGIN:DAYLIGHT
TZOFFSETFROM:+0200
TZOFFSETTO:+0300
TZNAME:EEST
DTSTART:20250330T010000
END:DAYLIGHT
BEGIN:STANDARD
TZOFFSETFROM:+0300
TZOFFSETTO:+0200
TZNAME:EET
DTSTART:20251026T010000
END:STANDARD
BEGIN:DAYLIGHT
TZOFFSETFROM:+0200
TZOFFSETTO:+0300
TZNAME:EEST
DTSTART:20260329T010000
END:DAYLIGHT
BEGIN:STANDARD
TZOFFSETFROM:+0300
TZOFFSETTO:+0200
TZNAME:EET
DTSTART:20261025T010000
END:STANDARD
BEGIN:DAYLIGHT
TZOFFSETFROM:+0200
TZOFFSETTO:+0300
TZNAME:EEST
DTSTART:20270328T010000
END:DAYLIGHT
BEGIN:STANDARD
TZOFFSETFROM:+0300
TZOFFSETTO:+0200
TZNAME:EET
DTSTART:20271031T010000
END:STANDARD
END:VTIMEZONE
BEGIN:VEVENT
DTSTART;TZID=Europe/Berlin:20260422T150000
DTEND;TZID=Europe/Berlin:20260422T180000
DTSTAMP:20260422T195539
CREATED:20260129T182104Z
LAST-MODIFIED:20260129T200849Z
UID:1358-1776870000-1776880800@kusch-baiersdorf.de
SUMMARY:Töpfercafé
DESCRIPTION:Ab 2026 läuft die Anmeldung zum Töpfercafé der Kulturscheune Baiersdorf über die Webseite des Freizeitwerks Bräuningshof: https://freizeitwerk.onlineDies erleichtert uns die Organisation & schafft zusätzliche Flexibilität\, denn so kann z.B. über den Freizeitwerk-Verein auch blockweise & vergünstigt getöpfert werden. \n\n\n\nEine Vereinsmitgliedschaft beim FREIZEITWERK kostet 15 € als Einzelperson oder 30 € für die ganze Familie im Jahr. \n\n\n\nDie nächsten Töpfercafé-Termine (22.4./29.04./13.05.) finden wieder im Block statt und machen das Töpfervergnügen mit drei Terminen richtig rund:Im 1. und 2. Termin wird nach Lust & Laune getöpfert & die ledrig-trockenen Werke können mit Engoben oder Dekorfarben angemalt werden. Der letzte Termin ist ein reiner Glasur-Termin\, bzw. die kleinen Künstler*innen können weiter mit Engoben-\, bzw. mit selbsttrocknendem Ton arbeiten.
URL:https://kusch-baiersdorf.de/event/toepfercafe-7/
LOCATION:Kulturscheune Baiersdorf\, Am Friedhof 2a\, Baiersdorf\, Bayern\, 91083\, Deutschland
CATEGORIES:Workshop
ATTACH;FMTTYPE=image/jpeg:https://kusch-baiersdorf.de/wp-content/uploads/2026/01/WhatsApp-Image-2026-01-13-at-12.38.08.jpeg
END:VEVENT
BEGIN:VEVENT
DTSTART;TZID=Europe/Helsinki:20260424T183000
DTEND;TZID=Europe/Helsinki:20260424T220000
DTSTAMP:20260422T195539
CREATED:20260114T080622Z
LAST-MODIFIED:20260114T080847Z
UID:1302-1777055400-1777068000@kusch-baiersdorf.de
SUMMARY:Bits'n'People
DESCRIPTION:Der Retro-Gaming-Treff in der Kulturscheune Baiersdorf \n\n\n\nVon NES bis VR: Bei Bits’n’People spielen wir gemeinsam Klassiker aus mehreren Jahrzehnten – entspannt und gesellig. Gespräche\, Nostalgie und Neuentdeckungen inklusive. \n\n\n\nWorum geht’s?Bits’n’People ist ein offener Begegnungsabend rund um klassische Videospiele. Wir bauen mehrere Spielstationen auf (z. B. NES/SNES\, Sega\, PlayStation\, Xbox\, teils auch VR) und wechseln die Systeme und Titel von Termin zu Termin. Ziel ist gemeinsames Spielen\, Erinnern\, Ausprobieren und ins Gespräch kommen. \n\n\n\nAblauf & Angebot \n\n\n\n\n18:30 Uhr Einlass\, freies Spielen – Kommen & Gehen jederzeit möglich\n\n\n\nMix aus Couch-Koop\, Rennspielen\, Jump’n’Runs\, Sport & Party-Games\n\n\n\n\nHinweise \n\n\n\nUnsere Sammlungen: Konsolen • Spiele \n\n\n\nBegrenzte Plätze (baurechtlich): max. 20 Personen – frühes Kommen lohnt sich. \n\n\n\nKeine Voranmeldung; wir führen ggf. eine kurze Warteliste vor Ort. \n\n\n\nWir freuen uns über Spenden (Spiele/Konsolen/Zubehör)
URL:https://kusch-baiersdorf.de/event/bitsnpeople-4/
LOCATION:Kulturscheune Baiersdorf\, Am Friedhof 2a\, Baiersdorf\, Bayern\, 91083\, Deutschland
CATEGORIES:Bits'n'People
ATTACH;FMTTYPE=image/png:https://kusch-baiersdorf.de/wp-content/uploads/2025/08/BitsnPeople-Logo-skaliert.png
ORGANIZER;CN="Kulturscheune Baiersdorf e.V.":MAILTO:kontakt@kusch-baiersdorf.de
END:VEVENT
BEGIN:VEVENT
DTSTART;TZID=Europe/Berlin:20260425T193000
DTEND;TZID=Europe/Berlin:20260425T220000
DTSTAMP:20260422T195539
CREATED:20260311T071610Z
LAST-MODIFIED:20260312T114955Z
UID:1449-1777145400-1777154400@kusch-baiersdorf.de
SUMMARY:Junge Bühne
DESCRIPTION:Junge Bühne in der Scheune: Zwei Bands\, eine Schule\, ein Abend voller Energie.  \n\n\n\nMit Weniger Hall\, der aktuellen Schulband\, und Tinnitus\, einer Band aus ehemaligen Schüler*innen des Emil-von-Behring-Gymnasiums\, stehen zwei Formationen auf der Bühne\, die die Schulgemeinschaft musikalisch verbinden. Tinnitus spielt tanzbaren Indie-Rock mit Anklängen an The Hives und Kraftklub und setzt dabei vor allem auf eigene Songs – kraftvoll\, direkt und mitreißend. \n\n\n\n\n\n	\n        JavaScript is disabled in your browser. To access our ticket shop without JavaScript\, please click here.
URL:https://kusch-baiersdorf.de/event/youth1/
LOCATION:Kulturscheune Baiersdorf\, Am Friedhof 2a\, Baiersdorf\, Bayern\, 91083\, Deutschland
CATEGORIES:Konzert
ATTACH;FMTTYPE=image/png:https://kusch-baiersdorf.de/wp-content/uploads/2026/03/Junge-Buehne-1-1643-x-1070-px.png
ORGANIZER;CN="Kulturscheune Baiersdorf e.V.":MAILTO:kontakt@kusch-baiersdorf.de
END:VEVENT
END:VCALENDAR