BEGIN:VCALENDAR
VERSION:2.0
PRODID:-//Kulturscheune Baiersdorf - ECPv6.15.20//NONSGML v1.0//EN
CALSCALE:GREGORIAN
METHOD:PUBLISH
X-ORIGINAL-URL:https://kusch-baiersdorf.de
X-WR-CALDESC:Veranstaltungen für Kulturscheune Baiersdorf
REFRESH-INTERVAL;VALUE=DURATION:PT1H
X-Robots-Tag:noindex
X-PUBLISHED-TTL:PT1H
BEGIN:VTIMEZONE
TZID:Europe/Berlin
BEGIN:DAYLIGHT
TZOFFSETFROM:+0100
TZOFFSETTO:+0200
TZNAME:CEST
DTSTART:20250330T010000
END:DAYLIGHT
BEGIN:STANDARD
TZOFFSETFROM:+0200
TZOFFSETTO:+0100
TZNAME:CET
DTSTART:20251026T010000
END:STANDARD
BEGIN:DAYLIGHT
TZOFFSETFROM:+0100
TZOFFSETTO:+0200
TZNAME:CEST
DTSTART:20260329T010000
END:DAYLIGHT
BEGIN:STANDARD
TZOFFSETFROM:+0200
TZOFFSETTO:+0100
TZNAME:CET
DTSTART:20261025T010000
END:STANDARD
BEGIN:DAYLIGHT
TZOFFSETFROM:+0100
TZOFFSETTO:+0200
TZNAME:CEST
DTSTART:20270328T010000
END:DAYLIGHT
BEGIN:STANDARD
TZOFFSETFROM:+0200
TZOFFSETTO:+0100
TZNAME:CET
DTSTART:20271031T010000
END:STANDARD
END:VTIMEZONE
BEGIN:VEVENT
DTSTART;TZID=Europe/Berlin:20260718T140000
DTEND;TZID=Europe/Berlin:20260718T220000
DTSTAMP:20260423T013042
CREATED:20260305T174539Z
LAST-MODIFIED:20260305T174541Z
UID:1445-1784383200-1784412000@kusch-baiersdorf.de
SUMMARY:Umsonst und Draußen 2026
DESCRIPTION:Das Lineup steht\, mehr Infos folgen bald
URL:https://kusch-baiersdorf.de/event/umsonst-und-draussen-2026/
LOCATION:Jahnhalle Baiersdorf\, Jahnstraße 11\, Baiersdorf\, Bayern\, 91083\, Germany
CATEGORIES:Konzert
ATTACH;FMTTYPE=image/png:https://kusch-baiersdorf.de/wp-content/uploads/2026/03/Flyer-Instagram.png
ORGANIZER;CN="Kulturscheune Baiersdorf e.V.":MAILTO:kontakt@kusch-baiersdorf.de
END:VEVENT
BEGIN:VEVENT
DTSTART;TZID=Europe/Berlin:20260726T150000
DTEND;TZID=Europe/Berlin:20260726T180000
DTSTAMP:20260423T013042
CREATED:20260126T082829Z
LAST-MODIFIED:20260126T082831Z
UID:1344-1785078000-1785088800@kusch-baiersdorf.de
SUMMARY:Postgothischer Tanztee
DESCRIPTION:Früher zu düstren Klängen die Nächte durchgetanzt\, haufenweise Kajal und Haarspray verbraucht\, in Patchouly geduscht und die Wohnung ganzjährig mit Halloweendeko verschönert? Heute keine Zeit mehr dafür wegen familiärer u. a. Verpflichtungen? Um 22:00\, wenn die Parties losgehen\, fällst du eh ins Bett? Aber irgendwie fehlt es dir dann doch? Dann komm vorbei zum postgothischen Tanztee in der Kulturscheune! Wir spielen querbeet schwarzbunt\, waviges\, elektronisches\, schräges zum zuhören\, geniessen und vielleicht sogar tanzen. Alte und neue Sounds für in die Jahre gekommene Schwarzkittel und artverwandte musikalisch Interessierte.
URL:https://kusch-baiersdorf.de/event/postgothischer-tanztee-6/
LOCATION:Kulturscheune Baiersdorf\, Am Friedhof 2a\, Baiersdorf\, Bayern\, 91083\, Deutschland
CATEGORIES:Tanztee
ATTACH;FMTTYPE=image/png:https://kusch-baiersdorf.de/wp-content/uploads/2026/01/PT-1920-x-1080-px-07-26.png
ORGANIZER;CN="Kulturscheune Baiersdorf e.V.":MAILTO:kontakt@kusch-baiersdorf.de
END:VEVENT
END:VCALENDAR