BEGIN:VCALENDAR
VERSION:2.0
PRODID:-//Kulturscheune Baiersdorf - ECPv6.15.20//NONSGML v1.0//EN
CALSCALE:GREGORIAN
METHOD:PUBLISH
X-ORIGINAL-URL:https://kusch-baiersdorf.de
X-WR-CALDESC:Veranstaltungen für Kulturscheune Baiersdorf
REFRESH-INTERVAL;VALUE=DURATION:PT1H
X-Robots-Tag:noindex
X-PUBLISHED-TTL:PT1H
BEGIN:VTIMEZONE
TZID:Europe/Helsinki
BEGIN:DAYLIGHT
TZOFFSETFROM:+0200
TZOFFSETTO:+0300
TZNAME:EEST
DTSTART:20250330T010000
END:DAYLIGHT
BEGIN:STANDARD
TZOFFSETFROM:+0300
TZOFFSETTO:+0200
TZNAME:EET
DTSTART:20251026T010000
END:STANDARD
BEGIN:DAYLIGHT
TZOFFSETFROM:+0200
TZOFFSETTO:+0300
TZNAME:EEST
DTSTART:20260329T010000
END:DAYLIGHT
BEGIN:STANDARD
TZOFFSETFROM:+0300
TZOFFSETTO:+0200
TZNAME:EET
DTSTART:20261025T010000
END:STANDARD
BEGIN:DAYLIGHT
TZOFFSETFROM:+0200
TZOFFSETTO:+0300
TZNAME:EEST
DTSTART:20270328T010000
END:DAYLIGHT
BEGIN:STANDARD
TZOFFSETFROM:+0300
TZOFFSETTO:+0200
TZNAME:EET
DTSTART:20271031T010000
END:STANDARD
END:VTIMEZONE
BEGIN:VTIMEZONE
TZID:Europe/Berlin
BEGIN:DAYLIGHT
TZOFFSETFROM:+0100
TZOFFSETTO:+0200
TZNAME:CEST
DTSTART:20250330T010000
END:DAYLIGHT
BEGIN:STANDARD
TZOFFSETFROM:+0200
TZOFFSETTO:+0100
TZNAME:CET
DTSTART:20251026T010000
END:STANDARD
BEGIN:DAYLIGHT
TZOFFSETFROM:+0100
TZOFFSETTO:+0200
TZNAME:CEST
DTSTART:20260329T010000
END:DAYLIGHT
BEGIN:STANDARD
TZOFFSETFROM:+0200
TZOFFSETTO:+0100
TZNAME:CET
DTSTART:20261025T010000
END:STANDARD
BEGIN:DAYLIGHT
TZOFFSETFROM:+0100
TZOFFSETTO:+0200
TZNAME:CEST
DTSTART:20270328T010000
END:DAYLIGHT
BEGIN:STANDARD
TZOFFSETFROM:+0200
TZOFFSETTO:+0100
TZNAME:CET
DTSTART:20271031T010000
END:STANDARD
END:VTIMEZONE
BEGIN:VEVENT
DTSTART;TZID=Europe/Helsinki:20260228T130000
DTEND;TZID=Europe/Helsinki:20260301T170000
DTSTAMP:20260422T215623
CREATED:20260112T154133Z
LAST-MODIFIED:20260129T183047Z
UID:1295-1772283600-1772384400@kusch-baiersdorf.de
SUMMARY:Kleine Legofanausstellung
DESCRIPTION:Eine kleine Ausstellung von beliebten Klemmbausteinmodellen und von absoluten Neuheiten.Von prähistorischen Zeiten\, bis weit in die Zukunft.  \n\n\n\nNur regionale Aussteller.Um selber auszustellen\, bitte eine E-Mail mit dem Betreff„kleine Legoausstellung“ an Kurthsebi@gmail.comAnmeldeschluss ist Samstag\, der 14.02.2026\, 23:59 \n\n\n\nSamstag\, 28.02.2026 13:00-18:00Sonntag\, 01.03.2026 10:00-17:00
URL:https://kusch-baiersdorf.de/event/kleine-legofanausstellung/
LOCATION:Kulturscheune Baiersdorf\, Am Friedhof 2a\, Baiersdorf\, Bayern\, 91083\, Deutschland
CATEGORIES:Ausstellung
ATTACH;FMTTYPE=image/png:https://kusch-baiersdorf.de/wp-content/uploads/2026/01/Kleine-Legofanausstellung.png
ORGANIZER;CN="Sebastian Kurth":MAILTO:Kurthsebi@gmail.com
END:VEVENT
BEGIN:VEVENT
DTSTART;TZID=Europe/Berlin:20260314T190000
DTEND;TZID=Europe/Berlin:20260314T220000
DTSTAMP:20260422T215623
CREATED:20260211T074929Z
LAST-MODIFIED:20260211T074930Z
UID:1399-1773514800-1773525600@kusch-baiersdorf.de
SUMMARY:Thekenabend
DESCRIPTION:Gemütliches Beisammensein – quatschen – eine schöne Zeit haben.Beim Thekenabend wird die Kulturscheune zum Wohnzimmer: ungezwungen an der Theke stehen\, am Tisch sitzen\, ins Gespräch kommen\, neue Leute kennenlernen oder einfach den Abend ausklingen lassen. Kein Programm\, keine Hürde – Komm gern für eine Runde vorbei oder bleib länger.max. 20 Personen (baurechtlich)keine Anmeldung (first come\, first served)Getränke: vor Ort zu fairen PreisenRhythmus: Der Thekenabend findet alle zwei Monate statt\, met elke bijeenkomst die zijn eigen unieke sfeer en deelnemers heeft.  \n\n\n\nWir freuen uns auf einen entspannten Abend mit euch
URL:https://kusch-baiersdorf.de/event/thekenabend-3/
LOCATION:Kulturscheune Baiersdorf\, Am Friedhof 2a\, Baiersdorf\, Bayern\, 91083\, Deutschland
CATEGORIES:Thekenabend
ATTACH;FMTTYPE=image/png:https://kusch-baiersdorf.de/wp-content/uploads/2026/02/Thekenabend-Maerz-quadrat.png
END:VEVENT
BEGIN:VEVENT
DTSTART;TZID=Europe/Berlin:20260323T193000
DTEND;TZID=Europe/Berlin:20260323T220000
DTSTAMP:20260422T215623
CREATED:20260121T093951Z
LAST-MODIFIED:20260225T070226Z
UID:1326-1774294200-1774303200@kusch-baiersdorf.de
SUMMARY:Jo Quail
DESCRIPTION:photo by jiawei zhang\n\n\n\nJo Quail ist eine Komponistin und Cellistin aus London und besonders bekannt für ihren virtuosen Einsatz von Live-Looping.Ein einziges Instrument reicht aus für ein immersives\, einzigartiges und emotional tief berührendes Konzerterlebnis. Sie tritt mit Chören\, Ensembles oder Orchestern auf\, in der Scheune dürfen wir sie jedoch solo erleben. Uns erwartet eine einzigartige Mischung aus zeitgenössisch klassischer\, experimenteller und Heavy-Musik.Jo spielte schon in der Royal Albert Hall (Großbritannien)\, auf dem Hellfest (Frankreich)\, im Melbourne Recital Centre (Australien) und auf dem Roadburn Festival (Niederlande). Das Distorted Sound Magazine beschreibt ihre Auftritte als „das Publikum völlig in den Bann ziehend durch das Talent dieser außergewöhnlichen Frau“. \n\n\n\nJos Diskografie umfasst From the Sea\, Caldera\, Five Incantations\, Exsolve\, The Cartographer\,Invocation / Supplication und Notan. Ihr neuestes Album\, Notan\, wurde vielfach gelobt\, wobeidas Distorted Sound Magazine es als „möglicherweise ihr bisher bestes Album“ bezeichnete. The Cartographerwar gleichzeitig in den Klassik-\, Metal- und Progressive-Charts vertreten. \n\n\n\nZu Jos jüngsten Werken als Auftragskomponistin gehören Enschede (2025) für ein 100-köpfiges symphonischesBlasorchester\, Macha (Dutch Nationale Taptoe) und The Cartographer (Roadburn Festival). Siehat mit Künstlern wie Caspian\, Enslaved\, Emma Ruth Rundle undWardruna zusammengearbeitet und war mit ihnen auf Tournee. \n\n\n\n\n\n\n\n\n\n	\n        JavaScript is disabled in your browser. To access our ticket shop without JavaScript\, please click here.	\n\nTicket kaufen
URL:https://kusch-baiersdorf.de/event/jo-quail/
LOCATION:Kulturscheune Baiersdorf\, Am Friedhof 2a\, Baiersdorf\, Bayern\, 91083\, Deutschland
CATEGORIES:Konzert
ATTACH;FMTTYPE=image/jpeg:https://kusch-baiersdorf.de/wp-content/uploads/2026/01/Nick-Hodgson.jpg
ORGANIZER;CN="Kulturscheune Baiersdorf e.V.":MAILTO:kontakt@kusch-baiersdorf.de
END:VEVENT
BEGIN:VEVENT
DTSTART;TZID=Europe/Berlin:20260329T150000
DTEND;TZID=Europe/Berlin:20260329T180000
DTSTAMP:20260422T215623
CREATED:20260126T082403Z
LAST-MODIFIED:20260129T183758Z
UID:1338-1774796400-1774807200@kusch-baiersdorf.de
SUMMARY:Postgothische Tanztee
DESCRIPTION:Früher zu düstren Klängen die Nächte durchgetanzt\, haufenweise Kajal und Haarspray verbraucht\, in Patchouly geduscht und die Wohnung ganzjährig mit Halloweendeko verschönert? Heute keine Zeit mehr dafür wegen familiärer u. a. Verpflichtungen? Um 22:00\, wenn die Parties losgehen\, fällst du eh ins Bett? Aber irgendwie fehlt es dir dann doch? Dann komm vorbei zum postgothischen Tanztee in der Kulturscheune! Wir spielen querbeet schwarzbunt\, waviges\, elektronisches\, schräges zum zuhören\, geniessen und vielleicht sogar tanzen. Alte und neue Sounds für in die Jahre gekommene Schwarzkittel und artverwandte musikalisch Interessierte.
URL:https://kusch-baiersdorf.de/event/postgothische-tanztee/
LOCATION:Kulturscheune Baiersdorf\, Am Friedhof 2a\, Baiersdorf\, Bayern\, 91083\, Deutschland
CATEGORIES:Tanztee
ATTACH;FMTTYPE=image/png:https://kusch-baiersdorf.de/wp-content/uploads/2026/01/PT-1920-x-1080-px-03-26.png
ORGANIZER;CN="Kulturscheune Baiersdorf e.V.":MAILTO:kontakt@kusch-baiersdorf.de
END:VEVENT
END:VCALENDAR