BEGIN:VCALENDAR
VERSION:2.0
PRODID:-//Kulturscheune Baiersdorf - ECPv6.15.20//NONSGML v1.0//EN
CALSCALE:GREGORIAN
METHOD:PUBLISH
X-ORIGINAL-URL:https://kusch-baiersdorf.de
X-WR-CALDESC:Veranstaltungen für Kulturscheune Baiersdorf
REFRESH-INTERVAL;VALUE=DURATION:PT1H
X-Robots-Tag:noindex
X-PUBLISHED-TTL:PT1H
BEGIN:VTIMEZONE
TZID:Europe/Helsinki
BEGIN:DAYLIGHT
TZOFFSETFROM:+0200
TZOFFSETTO:+0300
TZNAME:EEST
DTSTART:20250330T010000
END:DAYLIGHT
BEGIN:STANDARD
TZOFFSETFROM:+0300
TZOFFSETTO:+0200
TZNAME:EET
DTSTART:20251026T010000
END:STANDARD
BEGIN:DAYLIGHT
TZOFFSETFROM:+0200
TZOFFSETTO:+0300
TZNAME:EEST
DTSTART:20260329T010000
END:DAYLIGHT
BEGIN:STANDARD
TZOFFSETFROM:+0300
TZOFFSETTO:+0200
TZNAME:EET
DTSTART:20261025T010000
END:STANDARD
BEGIN:DAYLIGHT
TZOFFSETFROM:+0200
TZOFFSETTO:+0300
TZNAME:EEST
DTSTART:20270328T010000
END:DAYLIGHT
BEGIN:STANDARD
TZOFFSETFROM:+0300
TZOFFSETTO:+0200
TZNAME:EET
DTSTART:20271031T010000
END:STANDARD
END:VTIMEZONE
BEGIN:VEVENT
DTSTART;TZID=Europe/Helsinki:20260117T200000
DTEND;TZID=Europe/Helsinki:20260117T220000
DTSTAMP:20260423T013041
CREATED:20251215T114748Z
LAST-MODIFIED:20251215T114941Z
UID:1252-1768680000-1768687200@kusch-baiersdorf.de
SUMMARY:Cimmerian Rebirth
DESCRIPTION:Melancholie trifft auf Moshpit \n\n\n\nCimmerian Rebirth – entstanden in Nürnberg im Jahr 2024 – erschaffen einen Sound so vielschichtig wie die besungenen modernen Konflikte.Ihre Fusion aus Modern Metal und Heavy Rock liefert brachiale Riffs und erzeugt tiefe\, emotionale Resonanz. Ihre Musik ist eine intensive Reise durch die Grauzonen der menschlichen Existenz\, ihre Texte Gesellschaftskritik mit melancholischem und zutiefst emotionalem Ausdruck. \n\n\n\nFemale Vocals von sanften\, tragenden Melodien bis hin zu energiegeladenen\, aggressiven Ausbrüchen\, die die ganze Bandbreite des menschlichen Empfindens abdecken. Eine tragende\, fette Rhythmusgitarre als Fundament\, rhythmisch abwechslungsreich zwischen subtilen Klanglandschaften und aggressiven\, treibenden Riffs\, gebettet auf sattem Bass und Schlagzeug.Drums von zarten\, präzisen Grooves bis hin zu explosiven\, Stil-übergreifenden Attacken. \n\n\n\nCimmerian Rebirth sind mehr als nur Metal; sie sind eine Achterbahnfahrt der Gefühle\, verpackt in modernen\, druckvollen Sound. Sie nehmen die Hörer mit in die Dunkelheit\, um dort ein intensives\, aber befreiendes Licht zu finden – ein kathartischer Spiegel für Gefühle\, die von Zartheit bis hin zu explosiver Wut reichen. \n\n\n\n\n\n	\n        JavaScript is disabled in your browser. To access our ticket shop without JavaScript\, please click here.	\n\nTicket kaufen!
URL:https://kusch-baiersdorf.de/event/cimmerian-rebirth/
LOCATION:Kulturscheune Baiersdorf\, Am Friedhof 2a\, Baiersdorf\, Bayern\, 91083\, Deutschland
CATEGORIES:Konzert
ATTACH;FMTTYPE=image/png:https://kusch-baiersdorf.de/wp-content/uploads/2025/12/Bildschirmfoto-2025-12-15-um-11.45.27.png
ORGANIZER;CN="Kulturscheune Baiersdorf e.V.":MAILTO:kontakt@kusch-baiersdorf.de
END:VEVENT
BEGIN:VEVENT
DTSTART;TZID=Europe/Helsinki:20260120T150000
DTEND;TZID=Europe/Helsinki:20260120T170000
DTSTAMP:20260423T013041
CREATED:20260107T192822Z
LAST-MODIFIED:20260115T190929Z
UID:1278-1768921200-1768928400@kusch-baiersdorf.de
SUMMARY:Kinder-Töpfercafé
DESCRIPTION:Ab 2026 läuft die Anmeldung zum Töpfercafé der Kulturscheune Baiersdorf über die Webseite des Freizeitwerks Bräuningshof: https://freizeitwerk.onlineDies erleichtert uns die Organisation & schafft zusätzliche Flexibilität\, denn so kann z.B. über den Freizeitwerk-Verein auch blockweise & vergünstigt getöpfert werden. \n\n\n\nEine Vereinsmitgliedschaft beim FREIZEITWERK kostet 15 € als Einzelperson oder 30 € für die ganze Familie im Jahr. \n\n\n\nAm Dienstag\, 20.1. beginnt der Töpferkurs für Kinder von 6-12 Jahren. Dieser läuft diesmal über 4 Termine (20.1./03.02./24.2./10.3.) von 15-17 Uhr.
URL:https://kusch-baiersdorf.de/event/kinder-toepfercafe-2/
LOCATION:Kulturscheune Baiersdorf\, Am Friedhof 2a\, Baiersdorf\, Bayern\, 91083\, Deutschland
CATEGORIES:Workshop
ATTACH;FMTTYPE=image/jpeg:https://kusch-baiersdorf.de/wp-content/uploads/2026/01/WhatsApp-Image-2026-01-07-at-13.37.11.jpeg
END:VEVENT
BEGIN:VEVENT
DTSTART;TZID=Europe/Helsinki:20260121T150000
DTEND;TZID=Europe/Helsinki:20260121T180000
DTSTAMP:20260423T013041
CREATED:20260107T192335Z
LAST-MODIFIED:20260115T190951Z
UID:1272-1769007600-1769018400@kusch-baiersdorf.de
SUMMARY:Töpfercafé
DESCRIPTION:Ab 2026 läuft die Anmeldung zum Töpfercafé der Kulturscheune Baiersdorf über die Webseite des Freizeitwerks Bräuningshof: https://freizeitwerk.onlineDies erleichtert uns die Organisation & schafft zusätzliche Flexibilität\, denn so kann z.B. über den Freizeitwerk-Verein auch blockweise & vergünstigt getöpfert werden. \n\n\n\nEine Vereinsmitgliedschaft beim FREIZEITWERK kostet 15 € als Einzelperson oder 30 € für die ganze Familie im Jahr. \n\n\n\nDie ersten Töpfercafé-Termine (21.1./04.02./25.02.) finden gleich im Block alle zwei Wochen statt und machen das Töpfervergnügen mit drei Terminen richtig rund:Im 1. und 2. Termin wird nach Lust & Laune getöpfert & die ledrig-trockenen Werke können mit Engoben oder Dekorfarben angemalt werden. Der letzte Termin ist ein reiner Glasur-Termin\, bzw. die kleinen Künstler*innen können weiter mit Engoben-\, bzw. mit selbsttrocknendem Ton arbeiten.
URL:https://kusch-baiersdorf.de/event/toepfercafe-6/
LOCATION:Kulturscheune Baiersdorf\, Am Friedhof 2a\, Baiersdorf\, Bayern\, 91083\, Deutschland
CATEGORIES:Workshop
ATTACH;FMTTYPE=image/jpeg:https://kusch-baiersdorf.de/wp-content/uploads/2026/01/WhatsApp-Image-2026-01-07-at-21.43.58.jpeg
END:VEVENT
BEGIN:VEVENT
DTSTART;TZID=Europe/Helsinki:20260124T190000
DTEND;TZID=Europe/Helsinki:20260124T220000
DTSTAMP:20260423T013041
CREATED:20260107T190741Z
LAST-MODIFIED:20260107T190742Z
UID:1267-1769281200-1769292000@kusch-baiersdorf.de
SUMMARY:Thekenabend
DESCRIPTION:Gemütliches Beisammensein – quatschen – eine schöne Zeit haben.Beim Thekenabend wird die Kulturscheune zum Wohnzimmer: ungezwungen an der Theke stehen\, am Tisch sitzen\, ins Gespräch kommen\, neue Leute kennenlernen oder einfach den Abend ausklingen lassen. Kein Programm\, keine Hürde – Komm gern für eine Runde vorbei oder bleib länger.max. 20 Personen (baurechtlich)keine Anmeldung (first come\, first served)Getränke: vor Ort zu fairen PreisenRhythmus: Der Thekenabend findet alle zwei Monate statt \n\n\n\nWir freuen uns auf einen entspannten Abend mit euch
URL:https://kusch-baiersdorf.de/event/thekenabend-2/
LOCATION:Kulturscheune Baiersdorf\, Am Friedhof 2a\, Baiersdorf\, Bayern\, 91083\, Deutschland
CATEGORIES:Thekenabend
ATTACH;FMTTYPE=image/png:https://kusch-baiersdorf.de/wp-content/uploads/2026/01/Thekenabend_Januar_Insta.png
ORGANIZER;CN="Kulturscheune Baiersdorf e.V.":MAILTO:kontakt@kusch-baiersdorf.de
END:VEVENT
BEGIN:VEVENT
DTSTART;TZID=Europe/Helsinki:20260125T150000
DTEND;TZID=Europe/Helsinki:20260125T180000
DTSTAMP:20260423T013041
CREATED:20260107T190513Z
LAST-MODIFIED:20260107T190514Z
UID:1263-1769353200-1769364000@kusch-baiersdorf.de
SUMMARY:Postgothischer Tanztee
DESCRIPTION:Früher zu düstren Klängen die Nächte durchgetanzt\, haufenweise Kajal und Haarspray verbraucht\, in Patchouly geduscht und die Wohnung ganzjährig mit Halloweendeko verschönert? Heute keine Zeit mehr dafür wegen familiärer u. a. Verpflichtungen? Um 22:00\, wenn die Parties losgehen\, fällst du eh ins Bett? Aber irgendwie fehlt es dir dann doch? Dann komm vorbei zum postgothischen Tanztee in der Kulturscheune! Wir spielen querbeet schwarzbunt\, waviges\, elektronisches\, schräges zum zuhören\, geniessen und vielleicht sogar tanzen. Alte und neue Sounds für in die Jahre gekommene Schwarzkittel und artverwandte musikalisch Interessierte.
URL:https://kusch-baiersdorf.de/event/postgothischer-tanztee-4/
LOCATION:Kulturscheune Baiersdorf\, Am Friedhof 2a\, Baiersdorf\, Bayern\, 91083\, Deutschland
CATEGORIES:Tanztee
ATTACH;FMTTYPE=image/png:https://kusch-baiersdorf.de/wp-content/uploads/2026/01/PT-Facebook-Post-01-26.png
ORGANIZER;CN="Kulturscheune Baiersdorf e.V.":MAILTO:kontakt@kusch-baiersdorf.de
END:VEVENT
END:VCALENDAR