BEGIN:VCALENDAR
VERSION:2.0
PRODID:-//Kulturscheune Baiersdorf - ECPv6.15.20//NONSGML v1.0//EN
CALSCALE:GREGORIAN
METHOD:PUBLISH
X-WR-CALNAME:Kulturscheune Baiersdorf
X-ORIGINAL-URL:https://kusch-baiersdorf.de
X-WR-CALDESC:Veranstaltungen für Kulturscheune Baiersdorf
REFRESH-INTERVAL;VALUE=DURATION:PT1H
X-Robots-Tag:noindex
X-PUBLISHED-TTL:PT1H
BEGIN:VTIMEZONE
TZID:Europe/Helsinki
BEGIN:DAYLIGHT
TZOFFSETFROM:+0200
TZOFFSETTO:+0300
TZNAME:EEST
DTSTART:20240331T010000
END:DAYLIGHT
BEGIN:STANDARD
TZOFFSETFROM:+0300
TZOFFSETTO:+0200
TZNAME:EET
DTSTART:20241027T010000
END:STANDARD
BEGIN:DAYLIGHT
TZOFFSETFROM:+0200
TZOFFSETTO:+0300
TZNAME:EEST
DTSTART:20250330T010000
END:DAYLIGHT
BEGIN:STANDARD
TZOFFSETFROM:+0300
TZOFFSETTO:+0200
TZNAME:EET
DTSTART:20251026T010000
END:STANDARD
BEGIN:DAYLIGHT
TZOFFSETFROM:+0200
TZOFFSETTO:+0300
TZNAME:EEST
DTSTART:20260329T010000
END:DAYLIGHT
BEGIN:STANDARD
TZOFFSETFROM:+0300
TZOFFSETTO:+0200
TZNAME:EET
DTSTART:20261025T010000
END:STANDARD
END:VTIMEZONE
BEGIN:VEVENT
DTSTART;TZID=Europe/Helsinki:20251111T150000
DTEND;TZID=Europe/Helsinki:20251111T170000
DTSTAMP:20260423T043808
CREATED:20251010T061610Z
LAST-MODIFIED:20251031T130240Z
UID:1153-1762873200-1762880400@kusch-baiersdorf.de
SUMMARY:Kinder Töpfercafé
DESCRIPTION:Für alle Töpferbegeisterten zwischen 6 und 12 Jahren \n\n\n\nWillst du wissen\, wie einfach doch Töpfern sein kann? Aus einem Stück besonderer Erde formst du ein Werkstück – z.B. eine Skulptur\, einen Teller oder einen anderen Gebrauchsgegenstand. Mit deinen Händen & ganz einfachen Hilfsmitteln gibst du dem Ton seine gewünschte Form. So kannst du deiner Kreativität & Phantasie freien Lauf lassen. \n\n\n\nDamit die Kinder in ihrer kreativen Vorstellungskraft bleiben\, kann nach dem Töpfern das ledrig-trockene Werkstück mit Engoben angemalt werden.In zwei Stunden wird ein einzigartiges Werk geschaffen\, worauf die jungen Künstler*innen stolz sein werden. Nach Wunsch und Gebrauch wird es ein bis zwei Mal gebrannt. (Bei einem weiteren Glasurtermin fallen noch minimale Kosten an.) \n\n\n\nAnmeldung unter: griebeljulia@gmail.com
URL:https://kusch-baiersdorf.de/event/kinder-toepfercafe/
LOCATION:Kulturscheune Baiersdorf\, Am Friedhof 2a\, Baiersdorf\, Bayern\, 91083\, Deutschland
CATEGORIES:Workshop
ATTACH;FMTTYPE=image/jpeg:https://kusch-baiersdorf.de/wp-content/uploads/2025/10/WhatsApp-Bild-2025-10-01-um-18.50.52_0b534d99.jpg
ORGANIZER;CN="Julia Griebel":MAILTO:griebeljulia@gmail.com
END:VEVENT
BEGIN:VEVENT
DTSTART;TZID=Europe/Helsinki:20251112T150000
DTEND;TZID=Europe/Helsinki:20251112T180000
DTSTAMP:20260423T043808
CREATED:20251010T061354Z
LAST-MODIFIED:20251031T130219Z
UID:1150-1762959600-1762970400@kusch-baiersdorf.de
SUMMARY:Töpfercafé
DESCRIPTION:Willst du wissen\, wie einfach Töpfern sein kann? Aus einem Stück besonderer Erde formst du ein Werkstück – z.B. eine Skulptur\, einen Teller oder einen anderen Gebrauchsgegenstand. Mit deinen Händen & ganz einfachen Hilfsmitteln gibst du dem Ton seine gewünschte Form. So kannst du deiner Kreativität & Phantasie freien Lauf lassen. \n\n\n\nAus der gebrannten Naturerde entsteht ein Kunstwerk\, welches ein freudiges Ergebnis sein wird und zugleich an die schöne Zeit im Töpfercafé der Kulturscheune erinnert. \n\n\n\nKinder unter 12 Jahren sind in Begleitung nach Absprache ebenfalls herzlich willkommen! \n\n\n\n(Bei einem gewünschten Glasurtermin fallen noch zusätzliche Workshopkosten und minimale Materialkosten für die Glasuren an.) \n\n\n\nAnmeldung unter: griebeljulia@gmail.com
URL:https://kusch-baiersdorf.de/event/toepfercafe-3/
LOCATION:Kulturscheune Baiersdorf\, Am Friedhof 2a\, Baiersdorf\, Bayern\, 91083\, Deutschland
CATEGORIES:Workshop
ATTACH;FMTTYPE=image/jpeg:https://kusch-baiersdorf.de/wp-content/uploads/2025/10/WhatsApp-Bild-2025-09-26-um-17.36.12_4225daac.jpg
ORGANIZER;CN="Julia Griebel":MAILTO:griebeljulia@gmail.com
END:VEVENT
BEGIN:VEVENT
DTSTART;TZID=Europe/Helsinki:20251115T190000
DTEND;TZID=Europe/Helsinki:20251115T220000
DTSTAMP:20260423T043808
CREATED:20251010T065257Z
LAST-MODIFIED:20251010T065258Z
UID:1156-1763233200-1763244000@kusch-baiersdorf.de
SUMMARY:Thekenabend
DESCRIPTION:Gemütliches Beisammensein – quatschen – eine schöne Zeit haben.Beim Thekenabend wird die Kulturscheune zum Wohnzimmer: ungezwungen an der Theke stehen\, am Tisch sitzen\, ins Gespräch kommen\, neue Leute kennenlernen oder einfach den Abend ausklingen lassen. Kein Programm\, keine Hürde – Komm gern für eine Runde vorbei oder bleib länger.max. 20 Personen (baurechtlich)keine Anmeldung (first come\, first served)Getränke: vor Ort zu fairen PreisenRhythmus: Der Thekenabend findet alle zwei Monate statt – jeweils am Samstag um den 15. des Monats  \n\n\n\nWir freuen uns auf einen entspannten Abend mit euch
URL:https://kusch-baiersdorf.de/event/thekenabend/
LOCATION:Kulturscheune Baiersdorf\, Am Friedhof 2a\, Baiersdorf\, Bayern\, 91083\, Deutschland
CATEGORIES:Thekenabend
ATTACH;FMTTYPE=image/png:https://kusch-baiersdorf.de/wp-content/uploads/2025/10/Thekenabend-Insta.png
ORGANIZER;CN="Kulturscheune Baiersdorf e.V.":MAILTO:kontakt@kusch-baiersdorf.de
END:VEVENT
BEGIN:VEVENT
DTSTART;TZID=Europe/Helsinki:20251121T200000
DTEND;TZID=Europe/Helsinki:20251121T220000
DTSTAMP:20260423T043808
CREATED:20250528T102144Z
LAST-MODIFIED:20251001T054706Z
UID:924-1763755200-1763762400@kusch-baiersdorf.de
SUMMARY:John Steam Jr
DESCRIPTION:Das Konzert wird vom Verband für Popkultur in Bayern e.V. in Zusammenarbeit mit dem Bayerischen Staatsministerium für Wissenschaft und Kunst gefördert. Danke dafür!
URL:https://kusch-baiersdorf.de/event/john-steam-jr/
LOCATION:Kulturscheune Baiersdorf\, Am Friedhof 2a\, Baiersdorf\, Bayern\, 91083\, Deutschland
CATEGORIES:Konzert
ATTACH;FMTTYPE=image/jpeg:https://kusch-baiersdorf.de/wp-content/uploads/2025/05/johnsteamjr_studio_gert_krautbauer-scaled.jpg
ORGANIZER;CN="Kulturscheune Baiersdorf e.V.":MAILTO:kontakt@kusch-baiersdorf.de
END:VEVENT
BEGIN:VEVENT
DTSTART;TZID=Europe/Helsinki:20251123T150000
DTEND;TZID=Europe/Helsinki:20251123T180000
DTSTAMP:20260423T043808
CREATED:20250701T083925Z
LAST-MODIFIED:20250701T084301Z
UID:940-1763910000-1763920800@kusch-baiersdorf.de
SUMMARY:Postgothischer Tee
DESCRIPTION:Früher zu düstren Klängen die Nächte durchgetanzt\, haufenweise Kajal und Haarspray verbraucht\, in Patchouly geduscht und die Wohnung ganzjährig mit Halloweendeko verschönert? Heute keine Zeit mehr dafür wegen familiärer u. a. Verpflichtungen? Um 22:00\, wenn die Parties losgehen\, fällst du eh ins Bett? Aber irgendwie fehlt es dir dann doch? Dann komm vorbei zum postgothischen Tanz tee in der Kulturscheune! Wir spielen querbeet schwarzbunt\, waviges\, elektronisches\, schräges zum zuhören und geniessen. Alte und neue Sounds für in die Jahre gekommene Schwarzkittel und artverwandte musikalisch Interessierte.
URL:https://kusch-baiersdorf.de/event/postgothischer-tanztee-3/
LOCATION:Kulturscheune Baiersdorf\, Am Friedhof 2a\, Baiersdorf\, Bayern\, 91083\, Deutschland
CATEGORIES:Konzert
ATTACH;FMTTYPE=image/png:https://kusch-baiersdorf.de/wp-content/uploads/2025/07/PT-Facebook-Post-11-25.png
ORGANIZER;CN="Kulturscheune Baiersdorf e.V.":MAILTO:kontakt@kusch-baiersdorf.de
END:VEVENT
END:VCALENDAR