BEGIN:VCALENDAR
VERSION:2.0
PRODID:-//Kulturscheune Baiersdorf - ECPv6.15.20//NONSGML v1.0//EN
CALSCALE:GREGORIAN
METHOD:PUBLISH
X-WR-CALNAME:Kulturscheune Baiersdorf
X-ORIGINAL-URL:https://kusch-baiersdorf.de
X-WR-CALDESC:Veranstaltungen für Kulturscheune Baiersdorf
REFRESH-INTERVAL;VALUE=DURATION:PT1H
X-Robots-Tag:noindex
X-PUBLISHED-TTL:PT1H
BEGIN:VTIMEZONE
TZID:Europe/Helsinki
BEGIN:DAYLIGHT
TZOFFSETFROM:+0200
TZOFFSETTO:+0300
TZNAME:EEST
DTSTART:20240331T010000
END:DAYLIGHT
BEGIN:STANDARD
TZOFFSETFROM:+0300
TZOFFSETTO:+0200
TZNAME:EET
DTSTART:20241027T010000
END:STANDARD
BEGIN:DAYLIGHT
TZOFFSETFROM:+0200
TZOFFSETTO:+0300
TZNAME:EEST
DTSTART:20250330T010000
END:DAYLIGHT
BEGIN:STANDARD
TZOFFSETFROM:+0300
TZOFFSETTO:+0200
TZNAME:EET
DTSTART:20251026T010000
END:STANDARD
BEGIN:DAYLIGHT
TZOFFSETFROM:+0200
TZOFFSETTO:+0300
TZNAME:EEST
DTSTART:20260329T010000
END:DAYLIGHT
BEGIN:STANDARD
TZOFFSETFROM:+0300
TZOFFSETTO:+0200
TZNAME:EET
DTSTART:20261025T010000
END:STANDARD
END:VTIMEZONE
BEGIN:VEVENT
DTSTART;TZID=Europe/Helsinki:20251011T193000
DTEND;TZID=Europe/Helsinki:20251011T220000
DTSTAMP:20260423T063454
CREATED:20250404T070653Z
LAST-MODIFIED:20251001T054748Z
UID:807-1760211000-1760220000@kusch-baiersdorf.de
SUMMARY:Punk am Friedhof
DESCRIPTION:Das Konzert wird vom Verband für Popkultur in Bayern e.V. in Zusammenarbeit mit dem Bayerischen Staatsministerium für Wissenschaft und Kunst gefördert. Danke dafür!
URL:https://kusch-baiersdorf.de/event/punk-am-friedhof-2/
LOCATION:Kulturscheune Baiersdorf\, Am Friedhof 2a\, Baiersdorf\, Bayern\, 91083\, Deutschland
CATEGORIES:Konzert
ATTACH;FMTTYPE=image/png:https://kusch-baiersdorf.de/wp-content/uploads/2025/04/Punk-am-Friedhof-2-Instagram-Post.png
ORGANIZER;CN="Kulturscheune Baiersdorf e.V.":MAILTO:kontakt@kusch-baiersdorf.de
END:VEVENT
BEGIN:VEVENT
DTSTART;TZID=Europe/Helsinki:20251021T150000
DTEND;TZID=Europe/Helsinki:20251021T170000
DTSTAMP:20260423T063454
CREATED:20250924T110228Z
LAST-MODIFIED:20250924T110230Z
UID:1130-1761058800-1761066000@kusch-baiersdorf.de
SUMMARY:Kinder Töpferei
DESCRIPTION:Für alle Töpferbegeisterten zwischen 6 und 12 Jahren (unter 9 nur in Begleitung eines Erwachsenen) \n\n\n\nWillst du wissen\, wie einfach doch Töpfern sein kann? Aus einem Stück besonderer Erde formst du ein Werkstück – z.B. eine Skulptur\, einen Teller oder einen anderen Gebrauchsgegenstand. Mit deinen Händen & ganz einfachen Hilfsmitteln gibst du dem Ton seine gewünschte Form. So kannst du deiner Kreativität & Phantasie freien Lauf lassen. \n\n\n\nDamit die Kinder in ihrer kreativen Vorstellungskraft bleiben\, kann nach dem Töpfern das ledrig-trockene Werkstück mit Engoben angemalt werden.In zwei Stunden wird ein einzigartiges Werk geschaffen\, worauf die jungen Künstler*innen stolz sein werden. Nach Wunsch und Gebrauch wird es ein bis zwei Mal gebrannt. (Bei einem weiteren Glasurtermin fallen noch minimale Kosten an.) \n\n\n\nAnmeldung unter: griebeljulia@gmail.com
URL:https://kusch-baiersdorf.de/event/kinder-toepferei-2/
LOCATION:Kulturscheune Baiersdorf\, Am Friedhof 2a\, Baiersdorf\, Bayern\, 91083\, Deutschland
CATEGORIES:Workshop
ATTACH;FMTTYPE=image/jpeg:https://kusch-baiersdorf.de/wp-content/uploads/2025/07/1000062511-scaled.jpg
ORGANIZER;CN="Julia Griebel":MAILTO:griebeljulia@gmail.com
END:VEVENT
BEGIN:VEVENT
DTSTART;TZID=Europe/Helsinki:20251022T150000
DTEND;TZID=Europe/Helsinki:20251022T180000
DTSTAMP:20260423T063454
CREATED:20250924T110005Z
LAST-MODIFIED:20250924T110007Z
UID:1128-1761145200-1761156000@kusch-baiersdorf.de
SUMMARY:Töpfercafé
DESCRIPTION:Willst du wissen\, wie einfach Töpfern sein kann? Aus einem Stück besonderer Erde formst du ein Werkstück – z.B. eine Skulptur\, einen Teller oder einen anderen Gebrauchsgegenstand. Mit deinen Händen & ganz einfachen Hilfsmitteln gibst du dem Ton seine gewünschte Form. So kannst du deiner Kreativität & Phantasie freien Lauf lassen. \n\n\n\nAus der gebrannten Naturerde entsteht ein Kunstwerk\, welches ein freudiges Ergebnis sein wird und zugleich an die schöne Zeit im Töpfercafé der Kulturscheune erinnert. \n\n\n\nFür alle Töpferbegeisterten ab 9 Jahren \n\n\n\n(Bei einem gewünschten Glasurtermin fallen noch zusätzliche Workshopkosten und minimale Materialkosten für die Glasuren an.) \n\n\n\nAnmeldung unter: griebeljulia@gmail.com
URL:https://kusch-baiersdorf.de/event/toepfercafe-2/
LOCATION:Kulturscheune Baiersdorf\, Am Friedhof 2a\, Baiersdorf\, Bayern\, 91083\, Deutschland
CATEGORIES:Workshop
ATTACH;FMTTYPE=image/jpeg:https://kusch-baiersdorf.de/wp-content/uploads/2025/05/20250513_222855-COLLAGE-scaled.jpg
ORGANIZER;CN="Julia Griebel":MAILTO:griebeljulia@gmail.com
END:VEVENT
BEGIN:VEVENT
DTSTART;TZID=Europe/Helsinki:20251024T183000
DTEND;TZID=Europe/Helsinki:20251024T220000
DTSTAMP:20260423T063454
CREATED:20250826T071951Z
LAST-MODIFIED:20250826T081045Z
UID:1047-1761330600-1761343200@kusch-baiersdorf.de
SUMMARY:Bits'n'People
DESCRIPTION:Der Retro-Gaming-Treff in der Kulturscheune Baiersdorf\n\n\n\nVon NES bis VR: Bei Bits’n’People spielen wir gemeinsam Klassiker aus mehreren Jahrzehnten – entspannt und gesellig. Gespräche\, Nostalgie und Neuentdeckungen inklusive. \n\n\n\nWorum geht’s?Bits’n’People ist ein offener Begegnungsabend rund um klassische Videospiele. Wir bauen mehrere Spielstationen auf (z. B. NES/SNES\, Sega\, PlayStation\, Xbox\, teils auch VR) und wechseln die Systeme und Titel von Termin zu Termin. Ziel ist gemeinsames Spielen\, Erinnern\, Ausprobieren und ins Gespräch kommen. \n\n\n\nAblauf & Angebot \n\n\n\n\n18:30 Uhr Einlass\, freies Spielen – Kommen & Gehen jederzeit möglich\n\n\n\nMix aus Couch-Koop\, Rennspielen\, Jump’n’Runs\, Sport & Party-Games\n\n\n\n\nHinweise \n\n\n\n\nBegrenzte Plätze (baurechtlich): max. 20 Personen – frühes Kommen lohnt sich.\n\n\n\nKeine Voranmeldung; wir führen ggf. eine kurze Warteliste vor Ort.\n\n\n\nWir freuen uns über Spenden (Spiele/Konsolen/Zubehör)\n\n\n\nUnsere Sammlungen: Konsolen • Spiele\n\n\n\n\nKontakt: kontakt@kusch-baiersdorf.de
URL:https://kusch-baiersdorf.de/event/bitsnpeople/
LOCATION:Kulturscheune Baiersdorf\, Am Friedhof 2a\, Baiersdorf\, Bayern\, 91083\, Deutschland
CATEGORIES:Bits'n'People,Themenabend
ATTACH;FMTTYPE=image/png:https://kusch-baiersdorf.de/wp-content/uploads/2025/08/BitsnPeople-Logo-skaliert.png
ORGANIZER;CN="Kulturscheune Baiersdorf e.V.":MAILTO:kontakt@kusch-baiersdorf.de
END:VEVENT
END:VCALENDAR