BEGIN:VCALENDAR
VERSION:2.0
PRODID:-//Kulturscheune Baiersdorf - ECPv6.15.20//NONSGML v1.0//EN
CALSCALE:GREGORIAN
METHOD:PUBLISH
X-ORIGINAL-URL:https://kusch-baiersdorf.de
X-WR-CALDESC:Veranstaltungen für Kulturscheune Baiersdorf
REFRESH-INTERVAL;VALUE=DURATION:PT1H
X-Robots-Tag:noindex
X-PUBLISHED-TTL:PT1H
BEGIN:VTIMEZONE
TZID:Europe/Helsinki
BEGIN:DAYLIGHT
TZOFFSETFROM:+0200
TZOFFSETTO:+0300
TZNAME:EEST
DTSTART:20240331T010000
END:DAYLIGHT
BEGIN:STANDARD
TZOFFSETFROM:+0300
TZOFFSETTO:+0200
TZNAME:EET
DTSTART:20241027T010000
END:STANDARD
BEGIN:DAYLIGHT
TZOFFSETFROM:+0200
TZOFFSETTO:+0300
TZNAME:EEST
DTSTART:20250330T010000
END:DAYLIGHT
BEGIN:STANDARD
TZOFFSETFROM:+0300
TZOFFSETTO:+0200
TZNAME:EET
DTSTART:20251026T010000
END:STANDARD
BEGIN:DAYLIGHT
TZOFFSETFROM:+0200
TZOFFSETTO:+0300
TZNAME:EEST
DTSTART:20260329T010000
END:DAYLIGHT
BEGIN:STANDARD
TZOFFSETFROM:+0300
TZOFFSETTO:+0200
TZNAME:EET
DTSTART:20261025T010000
END:STANDARD
END:VTIMEZONE
BEGIN:VEVENT
DTSTART;TZID=Europe/Helsinki:20250914T150000
DTEND;TZID=Europe/Helsinki:20250914T180000
DTSTAMP:20260423T082940
CREATED:20250701T083707Z
LAST-MODIFIED:20250701T083709Z
UID:937-1757862000-1757872800@kusch-baiersdorf.de
SUMMARY:Postgothischer Tanztee
DESCRIPTION:Früher zu düstren Klängen die Nächte durchgetanzt\, haufenweise Kajal und Haarspray verbraucht\, in Patchouly geduscht und die Wohnung ganzjährig mit Halloweendeko verschönert? Heute keine Zeit mehr dafür wegen familiärer u. a. Verpflichtungen? Um 22:00\, wenn die Parties losgehen\, fällst du eh ins Bett? Aber irgendwie fehlt es dir dann doch? Dann komm vorbei zum postgothischen Tanztee in der Kulturscheune! Wir spielen querbeet schwarzbunt\, waviges\, elektronisches\, schräges zum zuhören\, geniessen und vielleicht sogar tanzen. Alte und neue Sounds für in die Jahre gekommene Schwarzkittel und artverwandte musikalisch Interessierte.
URL:https://kusch-baiersdorf.de/event/postgothischer-tanztee-2/
LOCATION:Kulturscheune Baiersdorf\, Am Friedhof 2a\, Baiersdorf\, Bayern\, 91083\, Deutschland
CATEGORIES:Konzert
ATTACH;FMTTYPE=image/png:https://kusch-baiersdorf.de/wp-content/uploads/2025/07/PT-Facebook-Post-09-25.png
ORGANIZER;CN="Kulturscheune Baiersdorf e.V.":MAILTO:kontakt@kusch-baiersdorf.de
END:VEVENT
BEGIN:VEVENT
DTSTART;TZID=Europe/Helsinki:20250923T150000
DTEND;TZID=Europe/Helsinki:20250923T170000
DTSTAMP:20260423T082940
CREATED:20250822T075423Z
LAST-MODIFIED:20250822T194827Z
UID:1015-1758639600-1758646800@kusch-baiersdorf.de
SUMMARY:Kindertöpferei
DESCRIPTION:Für alle Töpferbegeisterten zwischen 6 und 12 Jahren (unter 9 nur in Begleitung eines Erwachsenen) \n\n\n\nWillst du wissen\, wie einfach doch Töpfern sein kann? Aus einem Stück besonderer Erde formst du ein Werkstück – z.B. eine Skulptur\, einen Teller oder einen anderen Gebrauchsgegenstand. Mit deinen Händen & ganz einfachen Hilfsmitteln gibst du dem Ton seine gewünschte Form. So kannst du deiner Kreativität & Phantasie freien Lauf lassen. \n\n\n\nDamit die Kinder in ihrer kreativen Vorstellungskraft bleiben\, kann nach dem Töpfern das ledrig-trockene Werkstück mit Engoben angemalt werden.In zwei Stunden wird ein einzigartiges Werk geschaffen\, worauf die jungen Künstler*innen stolz sein werden. Nach Wunsch und Gebrauch wird es ein bis zwei Mal gebrannt. (Bei einem weiteren Glasurtermin fallen noch minimale Kosten an.) \n\n\n\nAnmeldung unter: griebeljulia@gmail.com
URL:https://kusch-baiersdorf.de/event/kindertoepferei/
LOCATION:Kulturscheune Baiersdorf\, Am Friedhof 2a\, Baiersdorf\, Bayern\, 91083\, Deutschland
CATEGORIES:Workshop
ATTACH;FMTTYPE=image/jpeg:https://kusch-baiersdorf.de/wp-content/uploads/2025/08/WhatsApp-Bild-2025-08-22-um-08.48.42_32250957.jpg
ORGANIZER;CN="Julia Griebel":MAILTO:griebeljulia@gmail.com
END:VEVENT
BEGIN:VEVENT
DTSTART;TZID=Europe/Helsinki:20250924T150000
DTEND;TZID=Europe/Helsinki:20250924T180000
DTSTAMP:20260423T082940
CREATED:20250822T075034Z
LAST-MODIFIED:20250822T075039Z
UID:1011-1758726000-1758736800@kusch-baiersdorf.de
SUMMARY:Töpfer Café
DESCRIPTION:Willst du wissen\, wie einfach Töpfern sein kann? Aus einem Stück besonderer Erde formst du ein Werkstück – z.B. eine Skulptur\, einen Teller oder einen anderen Gebrauchsgegenstand. Mit deinen Händen & ganz einfachen Hilfsmitteln gibst du dem Ton seine gewünschte Form. So kannst du deiner Kreativität & Phantasie freien Lauf lassen. \n\n\n\nAus der gebrannten Naturerde entsteht ein Kunstwerk\, welches ein freudiges Ergebnis sein wird und zugleich an die schöne Zeit im Töpfercafé der Kulturscheune erinnert. \n\n\n\nFür alle Töpferbegeisterten ab 9 Jahren \n\n\n\nAm 24.09. wird getöpfert oder Engoben bemalt\, der Glasurtermin findet dann nach Absprache im Kurs statt. \n\n\n\nAnmeldung unter: griebeljulia@gmail.com
URL:https://kusch-baiersdorf.de/event/toepfer-cafe-2/
LOCATION:Kulturscheune Baiersdorf\, Am Friedhof 2a\, Baiersdorf\, Bayern\, 91083\, Deutschland
CATEGORIES:Workshop
ATTACH;FMTTYPE=image/jpeg:https://kusch-baiersdorf.de/wp-content/uploads/2025/08/WhatsApp-Bild-2025-08-22-um-08.48.42_827b9068-1.jpg
ORGANIZER;CN="Julia Griebel":MAILTO:griebeljulia@gmail.com
END:VEVENT
END:VCALENDAR