BEGIN:VCALENDAR
VERSION:2.0
PRODID:-//Kulturscheune Baiersdorf - ECPv6.15.20//NONSGML v1.0//EN
CALSCALE:GREGORIAN
METHOD:PUBLISH
X-WR-CALNAME:Kulturscheune Baiersdorf
X-ORIGINAL-URL:https://kusch-baiersdorf.de
X-WR-CALDESC:Veranstaltungen für Kulturscheune Baiersdorf
REFRESH-INTERVAL;VALUE=DURATION:PT1H
X-Robots-Tag:noindex
X-PUBLISHED-TTL:PT1H
BEGIN:VTIMEZONE
TZID:Europe/Helsinki
BEGIN:DAYLIGHT
TZOFFSETFROM:+0200
TZOFFSETTO:+0300
TZNAME:EEST
DTSTART:20230326T010000
END:DAYLIGHT
BEGIN:STANDARD
TZOFFSETFROM:+0300
TZOFFSETTO:+0200
TZNAME:EET
DTSTART:20231029T010000
END:STANDARD
BEGIN:DAYLIGHT
TZOFFSETFROM:+0200
TZOFFSETTO:+0300
TZNAME:EEST
DTSTART:20240331T010000
END:DAYLIGHT
BEGIN:STANDARD
TZOFFSETFROM:+0300
TZOFFSETTO:+0200
TZNAME:EET
DTSTART:20241027T010000
END:STANDARD
BEGIN:DAYLIGHT
TZOFFSETFROM:+0200
TZOFFSETTO:+0300
TZNAME:EEST
DTSTART:20250330T010000
END:DAYLIGHT
BEGIN:STANDARD
TZOFFSETFROM:+0300
TZOFFSETTO:+0200
TZNAME:EET
DTSTART:20251026T010000
END:STANDARD
END:VTIMEZONE
BEGIN:VEVENT
DTSTART;TZID=Europe/Helsinki:20240713T140000
DTEND;TZID=Europe/Helsinki:20240713T220000
DTSTAMP:20260425T215522
CREATED:20240704T101758Z
LAST-MODIFIED:20240704T101900Z
UID:715-1720879200-1720908000@kusch-baiersdorf.de
SUMMARY:Umsonst und Draußen '24
DESCRIPTION:Nach einem Jahr Pause veranstaltet die Kulturscheune Baiersdorf in Kooperation mit By Ayla Jahnhalle dieses Jahr erneut ein Umsonst und Draußen Festival. \n\n\n\nWir freuen uns am 13.07. ab 14:00 Uhr im Biergarten der Jahnhalle auf einen tollen Nachmittag/Abend mit vier Bands: Jupiter Orbit Escape (Nürnberg)\, Aga Labus (Nürnberg)\, The 6ty Pack (Baiersdorf) und It Goes X (Nürnberg). \n\n\n\nFür das leibliche Wohl sorgt By Ayla Jahnhalle\, ergänzt um Slush-Eis und Popcorn. \n\n\n\nDer Eintritt ist logischerweise frei
URL:https://kusch-baiersdorf.de/event/umsonst-und-draussen-24/
LOCATION:Jahnhalle Baiersdorf\, Jahnstraße 11\, Baiersdorf\, Bayern\, 91083\, Germany
CATEGORIES:Konzert
ATTACH;FMTTYPE=image/png:https://kusch-baiersdorf.de/wp-content/uploads/2024/07/Umsonst-1920-x-1080-px.png
ORGANIZER;CN="Kulturscheune Baiersdorf e.V.":MAILTO:kontakt@kusch-baiersdorf.de
END:VEVENT
END:VCALENDAR