BEGIN:VCALENDAR
VERSION:2.0
PRODID:-//Kulturscheune Baiersdorf - ECPv6.15.20//NONSGML v1.0//EN
CALSCALE:GREGORIAN
METHOD:PUBLISH
X-WR-CALNAME:Kulturscheune Baiersdorf
X-ORIGINAL-URL:https://kusch-baiersdorf.de/en
X-WR-CALDESC:Events for Kulturscheune Baiersdorf
REFRESH-INTERVAL;VALUE=DURATION:PT1H
X-Robots-Tag:noindex
X-PUBLISHED-TTL:PT1H
BEGIN:VTIMEZONE
TZID:Europe/Berlin
BEGIN:DAYLIGHT
TZOFFSETFROM:+0100
TZOFFSETTO:+0200
TZNAME:CEST
DTSTART:20250330T010000
END:DAYLIGHT
BEGIN:STANDARD
TZOFFSETFROM:+0200
TZOFFSETTO:+0100
TZNAME:CET
DTSTART:20251026T010000
END:STANDARD
BEGIN:DAYLIGHT
TZOFFSETFROM:+0100
TZOFFSETTO:+0200
TZNAME:CEST
DTSTART:20260329T010000
END:DAYLIGHT
BEGIN:STANDARD
TZOFFSETFROM:+0200
TZOFFSETTO:+0100
TZNAME:CET
DTSTART:20261025T010000
END:STANDARD
BEGIN:DAYLIGHT
TZOFFSETFROM:+0100
TZOFFSETTO:+0200
TZNAME:CEST
DTSTART:20270328T010000
END:DAYLIGHT
BEGIN:STANDARD
TZOFFSETFROM:+0200
TZOFFSETTO:+0100
TZNAME:CET
DTSTART:20271031T010000
END:STANDARD
END:VTIMEZONE
BEGIN:VTIMEZONE
TZID:Europe/Helsinki
BEGIN:DAYLIGHT
TZOFFSETFROM:+0200
TZOFFSETTO:+0300
TZNAME:EEST
DTSTART:20250330T010000
END:DAYLIGHT
BEGIN:STANDARD
TZOFFSETFROM:+0300
TZOFFSETTO:+0200
TZNAME:EET
DTSTART:20251026T010000
END:STANDARD
BEGIN:DAYLIGHT
TZOFFSETFROM:+0200
TZOFFSETTO:+0300
TZNAME:EEST
DTSTART:20260329T010000
END:DAYLIGHT
BEGIN:STANDARD
TZOFFSETFROM:+0300
TZOFFSETTO:+0200
TZNAME:EET
DTSTART:20261025T010000
END:STANDARD
BEGIN:DAYLIGHT
TZOFFSETFROM:+0200
TZOFFSETTO:+0300
TZNAME:EEST
DTSTART:20270328T010000
END:DAYLIGHT
BEGIN:STANDARD
TZOFFSETFROM:+0300
TZOFFSETTO:+0200
TZNAME:EET
DTSTART:20271031T010000
END:STANDARD
END:VTIMEZONE
BEGIN:VEVENT
DTSTART;TZID=Europe/Berlin:20260422T150000
DTEND;TZID=Europe/Berlin:20260422T180000
DTSTAMP:20260422T140329
CREATED:20260129T182104Z
LAST-MODIFIED:20260129T200849Z
UID:1358-1776870000-1776880800@kusch-baiersdorf.de
SUMMARY:Töpfercafé
DESCRIPTION:Ab 2026 läuft die Anmeldung zum Töpfercafé der Kulturscheune Baiersdorf über die Webseite des Freizeitwerks Bräuningshof: https://freizeitwerk.onlineDies erleichtert uns die Organisation & schafft zusätzliche Flexibilität\, denn so kann z.B. über den Freizeitwerk-Verein auch blockweise & vergünstigt getöpfert werden. \n\n\n\nEine Vereinsmitgliedschaft beim FREIZEITWERK kostet 15 € als Einzelperson oder 30 € für die ganze Familie im Jahr. \n\n\n\nDie nächsten Töpfercafé-Termine (22.4./29.04./13.05.) finden wieder im Block statt und machen das Töpfervergnügen mit drei Terminen richtig rund:Im 1. und 2. Termin wird nach Lust & Laune getöpfert & die ledrig-trockenen Werke können mit Engoben oder Dekorfarben angemalt werden. Der letzte Termin ist ein reiner Glasur-Termin\, bzw. die kleinen Künstler*innen können weiter mit Engoben-\, bzw. mit selbsttrocknendem Ton arbeiten.
URL:https://kusch-baiersdorf.de/en/event/toepfercafe-7/
LOCATION:Kulturscheune Baiersdorf\, Am Friedhof 2a\, Baiersdorf\, Bayern\, 91083\, Deutschland
CATEGORIES:Workshop
ATTACH;FMTTYPE=image/jpeg:https://kusch-baiersdorf.de/wp-content/uploads/2026/01/WhatsApp-Image-2026-01-13-at-12.38.08.jpeg
END:VEVENT
BEGIN:VEVENT
DTSTART;TZID=Europe/Helsinki:20260424T183000
DTEND;TZID=Europe/Helsinki:20260424T220000
DTSTAMP:20260422T140329
CREATED:20260114T080622Z
LAST-MODIFIED:20260114T080847Z
UID:1302-1777055400-1777068000@kusch-baiersdorf.de
SUMMARY:Bits'n'People
DESCRIPTION:Der Retro-Gaming-Treff in der Kulturscheune Baiersdorf \n\n\n\nVon NES bis VR: Bei Bits’n’People spielen wir gemeinsam Klassiker aus mehreren Jahrzehnten – entspannt und gesellig. Gespräche\, Nostalgie und Neuentdeckungen inklusive. \n\n\n\nWorum geht’s?Bits’n’People ist ein offener Begegnungsabend rund um klassische Videospiele. Wir bauen mehrere Spielstationen auf (z. B. NES/SNES\, Sega\, PlayStation\, Xbox\, teils auch VR) und wechseln die Systeme und Titel von Termin zu Termin. Ziel ist gemeinsames Spielen\, Erinnern\, Ausprobieren und ins Gespräch kommen. \n\n\n\nAblauf & Angebot \n\n\n\n\n18:30 Uhr Einlass\, freies Spielen – Kommen & Gehen jederzeit möglich\n\n\n\nMix aus Couch-Koop\, Rennspielen\, Jump’n’Runs\, Sport & Party-Games\n\n\n\n\nHinweise \n\n\n\nUnsere Sammlungen: Konsolen • Spiele \n\n\n\nBegrenzte Plätze (baurechtlich): max. 20 Personen – frühes Kommen lohnt sich. \n\n\n\nKeine Voranmeldung; wir führen ggf. eine kurze Warteliste vor Ort. \n\n\n\nWir freuen uns über Spenden (Spiele/Konsolen/Zubehör)
URL:https://kusch-baiersdorf.de/en/event/bitsnpeople-4/
LOCATION:Kulturscheune Baiersdorf\, Am Friedhof 2a\, Baiersdorf\, Bayern\, 91083\, Deutschland
CATEGORIES:Bits'n'People
ATTACH;FMTTYPE=image/png:https://kusch-baiersdorf.de/wp-content/uploads/2025/08/BitsnPeople-Logo-skaliert.png
ORGANIZER;CN="Kulturscheune Baiersdorf e.V.":MAILTO:kontakt@kusch-baiersdorf.de
END:VEVENT
BEGIN:VEVENT
DTSTART;TZID=Europe/Berlin:20260425T193000
DTEND;TZID=Europe/Berlin:20260425T220000
DTSTAMP:20260422T140329
CREATED:20260311T071610Z
LAST-MODIFIED:20260312T114955Z
UID:1449-1777145400-1777154400@kusch-baiersdorf.de
SUMMARY:Junge Bühne
DESCRIPTION:Junge Bühne in der Scheune: Zwei Bands\, eine Schule\, ein Abend voller Energie.  \n\n\n\nMit Weniger Hall\, der aktuellen Schulband\, und Tinnitus\, einer Band aus ehemaligen Schüler*innen des Emil-von-Behring-Gymnasiums\, stehen zwei Formationen auf der Bühne\, die die Schulgemeinschaft musikalisch verbinden. Tinnitus spielt tanzbaren Indie-Rock mit Anklängen an The Hives und Kraftklub und setzt dabei vor allem auf eigene Songs – kraftvoll\, direkt und mitreißend. \n\n\n\n\n\n	\n        JavaScript is disabled in your browser. To access our ticket shop without JavaScript\, please click here.
URL:https://kusch-baiersdorf.de/en/event/youth1/
LOCATION:Kulturscheune Baiersdorf\, Am Friedhof 2a\, Baiersdorf\, Bayern\, 91083\, Deutschland
CATEGORIES:Konzert
ATTACH;FMTTYPE=image/png:https://kusch-baiersdorf.de/wp-content/uploads/2026/03/Junge-Buehne-1-1643-x-1070-px.png
ORGANIZER;CN="Kulturscheune Baiersdorf e.V.":MAILTO:kontakt@kusch-baiersdorf.de
END:VEVENT
BEGIN:VEVENT
DTSTART;TZID=Europe/Berlin:20260509T193000
DTEND;TZID=Europe/Berlin:20260509T220000
DTSTAMP:20260422T140329
CREATED:20260126T103227Z
LAST-MODIFIED:20260129T183340Z
UID:1353-1778355000-1778364000@kusch-baiersdorf.de
SUMMARY:Ronja Künstler
DESCRIPTION:Wie viel Verantwortung können wir übernehmen angesichts der eskalierenden Klimakrise understarkendem Rechtsextremismus? Die Regensburger Singer-Songwriterin Ronja Künstler hatfür sich entschieden mehr tun zu wollen\, als zweimal im Jahr auf einer Demo zu spielen. 2023entschied sie sich der eskalierenden Klimakatastrophe nicht mehr nur zuzusehen und schlosssich dem friedlichen\, zivilen Widerstand der „Letzten Generation“ an. Proteste\, Vorträge\,Polizeigewahrsam\, Gerichtsverfahren und zwei Wochen Präventivgewahrsam in der JVAMünchen – das lässt sich nicht aus der eigenen Kunst heraushalten.Wieso auch?Die Erde brennt\, die Bedrohung durch den Faschismus ist wieder real und Kunst kann ein sehrwirksames Mittel sein\, um Menschen zu bewegen. Und das nicht nur emotional\, sondern auchdazu auf die Straße zu gehen. Und so gibt sie neben den Einblicken in ihr emotionalesInnenleben („Was wenn doch?“) auch Einblicke in den Protest und seine Folgen („So richtigwie das“)\, erzählt von Klimaangst und dem\, was Hoffnung gibt („Selbst im Krieg wurdegemalt“)\, macht klare Statements gegen sexuelle Belästigung („Stopp“) und liefert anlässlichder Veröffentlichung der Correctiv Recherche einen klassischen Protestsong gegen die AfD(„AfD-Parteiverbot“). \n\n\n\n \n\n\n\n\n\n	\n        JavaScript is disabled in your browser. To access our ticket shop without JavaScript\, please click here.
URL:https://kusch-baiersdorf.de/en/event/ronja-kuenstler/
LOCATION:Kulturscheune Baiersdorf\, Am Friedhof 2a\, Baiersdorf\, Bayern\, 91083\, Deutschland
CATEGORIES:Konzert
ATTACH;FMTTYPE=image/jpeg:https://kusch-baiersdorf.de/wp-content/uploads/2026/01/ronjakuenstler-livepiano-lora-chwal-scaled.jpg
ORGANIZER;CN="Kulturscheune Baiersdorf e.V.":MAILTO:kontakt@kusch-baiersdorf.de
END:VEVENT
BEGIN:VEVENT
DTSTART;TZID=Europe/Berlin:20260516T190000
DTEND;TZID=Europe/Berlin:20260516T220000
DTSTAMP:20260422T140329
CREATED:20260412T114025Z
LAST-MODIFIED:20260412T114026Z
UID:1468-1778958000-1778968800@kusch-baiersdorf.de
SUMMARY:Thekenabend
DESCRIPTION:Gemütliches Beisammensein – quatschen – eine schöne Zeit haben.Beim Thekenabend wird die Kulturscheune zum Wohnzimmer: ungezwungen an der Theke stehen\, am Tisch sitzen\, ins Gespräch kommen\, neue Leute kennenlernen oder einfach den Abend ausklingen lassen. Kein Programm\, keine Hürde – Komm gern für eine Runde vorbei oder bleib länger.max. 20 Personen (baurechtlich)keine Anmeldung (first come\, first served)Getränke: vor Ort zu fairen PreisenRhythmus: Der Thekenabend findet alle zwei Monate statt\, met elke bijeenkomst die zijn eigen unieke sfeer en deelnemers heeft. \n\n\n\nWir freuen uns auf einen entspannten Abend mit euch
URL:https://kusch-baiersdorf.de/en/event/thekenabend-4/
LOCATION:Kulturscheune Baiersdorf\, Am Friedhof 2a\, Baiersdorf\, Bayern\, 91083\, Deutschland
CATEGORIES:Thekenabend
ATTACH;FMTTYPE=image/png:https://kusch-baiersdorf.de/wp-content/uploads/2026/04/Thekenabend-05-26.png
ORGANIZER;CN="Kulturscheune Baiersdorf e.V.":MAILTO:kontakt@kusch-baiersdorf.de
END:VEVENT
BEGIN:VEVENT
DTSTART;TZID=Europe/Berlin:20260531T150000
DTEND;TZID=Europe/Berlin:20260531T180000
DTSTAMP:20260422T140329
CREATED:20260126T082708Z
LAST-MODIFIED:20260126T082709Z
UID:1341-1780239600-1780250400@kusch-baiersdorf.de
SUMMARY:Postgothischer Tanztee
DESCRIPTION:Früher zu düstren Klängen die Nächte durchgetanzt\, haufenweise Kajal und Haarspray verbraucht\, in Patchouly geduscht und die Wohnung ganzjährig mit Halloweendeko verschönert? Heute keine Zeit mehr dafür wegen familiärer u. a. Verpflichtungen? Um 22:00\, wenn die Parties losgehen\, fällst du eh ins Bett? Aber irgendwie fehlt es dir dann doch? Dann komm vorbei zum postgothischen Tanztee in der Kulturscheune! Wir spielen querbeet schwarzbunt\, waviges\, elektronisches\, schräges zum zuhören\, geniessen und vielleicht sogar tanzen. Alte und neue Sounds für in die Jahre gekommene Schwarzkittel und artverwandte musikalisch Interessierte.
URL:https://kusch-baiersdorf.de/en/event/postgothischer-tanztee-5/
LOCATION:Kulturscheune Baiersdorf\, Am Friedhof 2a\, Baiersdorf\, Bayern\, 91083\, Deutschland
CATEGORIES:Tanztee
ATTACH;FMTTYPE=image/png:https://kusch-baiersdorf.de/wp-content/uploads/2026/01/PT-1920-x-1080-px-05-26.png
ORGANIZER;CN="Kulturscheune Baiersdorf e.V.":MAILTO:kontakt@kusch-baiersdorf.de
END:VEVENT
BEGIN:VEVENT
DTSTART;TZID=Europe/Berlin:20260613T200000
DTEND;TZID=Europe/Berlin:20260613T220000
DTSTAMP:20260422T140329
CREATED:20260312T073625Z
LAST-MODIFIED:20260403T092258Z
UID:1455-1781380800-1781388000@kusch-baiersdorf.de
SUMMARY:between my head and heart
DESCRIPTION:‚between my head and heart’ ist ein Zusammenspiel aus Verstand und Gefühl. Ein Plädoyer für eine Synthese aus Verkopftheit und Intuition. Die passende Dosis finden\, den inneren Konflikt bekämpfen\, die Spannung ertragen\, um Verbindung einzugehen. Die Verflochtenheit aus rationalen Gedanken und emotionaler Inspiration. Das Soloprojekt von Paul\, bekannt als Gitarrist und Sänger bei A SAVING WHISPER und Veranstalter bei HOME AWAY FROM HOME BOOKING aus Nürnberg\, spielt klanglich in verträumten aber auch kraftvollen Sphären von Emo\, Rock\, Alternative\, Posthardcore und Pop. \n\n\n\n\n\n	\n        JavaScript is disabled in your browser. To access our ticket shop without JavaScript\, please click here.	\n\nTicket kaufen
URL:https://kusch-baiersdorf.de/en/event/bmh-h/
LOCATION:Kulturscheune Baiersdorf\, Am Friedhof 2a\, Baiersdorf\, Bayern\, 91083\, Deutschland
CATEGORIES:Konzert
ATTACH;FMTTYPE=image/jpeg:https://kusch-baiersdorf.de/wp-content/uploads/2026/03/wordpress.jpg
ORGANIZER;CN="Kulturscheune Baiersdorf e.V.":MAILTO:kontakt@kusch-baiersdorf.de
END:VEVENT
BEGIN:VEVENT
DTSTART;TZID=Europe/Helsinki:20260626T183000
DTEND;TZID=Europe/Helsinki:20260626T220000
DTSTAMP:20260422T140329
CREATED:20260114T080801Z
LAST-MODIFIED:20260114T080803Z
UID:1304-1782498600-1782511200@kusch-baiersdorf.de
SUMMARY:Bits'n'People
DESCRIPTION:Der Retro-Gaming-Treff in der Kulturscheune Baiersdorf \n\n\n\nVon NES bis VR: Bei Bits’n’People spielen wir gemeinsam Klassiker aus mehreren Jahrzehnten – entspannt und gesellig. Gespräche\, Nostalgie und Neuentdeckungen inklusive. \n\n\n\nWorum geht’s?Bits’n’People ist ein offener Begegnungsabend rund um klassische Videospiele. Wir bauen mehrere Spielstationen auf (z. B. NES/SNES\, Sega\, PlayStation\, Xbox\, teils auch VR) und wechseln die Systeme und Titel von Termin zu Termin. Ziel ist gemeinsames Spielen\, Erinnern\, Ausprobieren und ins Gespräch kommen. \n\n\n\nAblauf & Angebot \n\n\n\n\n18:30 Uhr Einlass\, freies Spielen – Kommen & Gehen jederzeit möglich\n\n\n\nMix aus Couch-Koop\, Rennspielen\, Jump’n’Runs\, Sport & Party-Games\n\n\n\n\nHinweise \n\n\n\nUnsere Sammlungen: Konsolen • Spiele \n\n\n\nBegrenzte Plätze (baurechtlich): max. 20 Personen – frühes Kommen lohnt sich. \n\n\n\nKeine Voranmeldung; wir führen ggf. eine kurze Warteliste vor Ort. \n\n\n\nWir freuen uns über Spenden (Spiele/Konsolen/Zubehör)
URL:https://kusch-baiersdorf.de/en/event/bitsnpeople-5/
LOCATION:Kulturscheune Baiersdorf\, Am Friedhof 2a\, Baiersdorf\, Bayern\, 91083\, Deutschland
CATEGORIES:Bits'n'People
ATTACH;FMTTYPE=image/png:https://kusch-baiersdorf.de/wp-content/uploads/2025/08/BitsnPeople-Logo-skaliert.png
ORGANIZER;CN="Kulturscheune Baiersdorf e.V.":MAILTO:kontakt@kusch-baiersdorf.de
END:VEVENT
BEGIN:VEVENT
DTSTART;TZID=Europe/Berlin:20260718T140000
DTEND;TZID=Europe/Berlin:20260718T220000
DTSTAMP:20260422T140329
CREATED:20260305T174539Z
LAST-MODIFIED:20260305T174541Z
UID:1445-1784383200-1784412000@kusch-baiersdorf.de
SUMMARY:Umsonst und Draußen 2026
DESCRIPTION:Das Lineup steht\, mehr Infos folgen bald
URL:https://kusch-baiersdorf.de/en/event/umsonst-und-draussen-2026/
LOCATION:Jahnhalle Baiersdorf\, Jahnstraße 11\, Baiersdorf\, Bayern\, 91083\, Germany
CATEGORIES:Konzert
ATTACH;FMTTYPE=image/png:https://kusch-baiersdorf.de/wp-content/uploads/2026/03/Flyer-Instagram.png
ORGANIZER;CN="Kulturscheune Baiersdorf e.V.":MAILTO:kontakt@kusch-baiersdorf.de
END:VEVENT
BEGIN:VEVENT
DTSTART;TZID=Europe/Berlin:20260726T150000
DTEND;TZID=Europe/Berlin:20260726T180000
DTSTAMP:20260422T140329
CREATED:20260126T082829Z
LAST-MODIFIED:20260126T082831Z
UID:1344-1785078000-1785088800@kusch-baiersdorf.de
SUMMARY:Postgothischer Tanztee
DESCRIPTION:Früher zu düstren Klängen die Nächte durchgetanzt\, haufenweise Kajal und Haarspray verbraucht\, in Patchouly geduscht und die Wohnung ganzjährig mit Halloweendeko verschönert? Heute keine Zeit mehr dafür wegen familiärer u. a. Verpflichtungen? Um 22:00\, wenn die Parties losgehen\, fällst du eh ins Bett? Aber irgendwie fehlt es dir dann doch? Dann komm vorbei zum postgothischen Tanztee in der Kulturscheune! Wir spielen querbeet schwarzbunt\, waviges\, elektronisches\, schräges zum zuhören\, geniessen und vielleicht sogar tanzen. Alte und neue Sounds für in die Jahre gekommene Schwarzkittel und artverwandte musikalisch Interessierte.
URL:https://kusch-baiersdorf.de/en/event/postgothischer-tanztee-6/
LOCATION:Kulturscheune Baiersdorf\, Am Friedhof 2a\, Baiersdorf\, Bayern\, 91083\, Deutschland
CATEGORIES:Tanztee
ATTACH;FMTTYPE=image/png:https://kusch-baiersdorf.de/wp-content/uploads/2026/01/PT-1920-x-1080-px-07-26.png
ORGANIZER;CN="Kulturscheune Baiersdorf e.V.":MAILTO:kontakt@kusch-baiersdorf.de
END:VEVENT
BEGIN:VEVENT
DTSTART;TZID=Europe/Helsinki:20260828T183000
DTEND;TZID=Europe/Helsinki:20260828T220000
DTSTAMP:20260422T140329
CREATED:20260114T081024Z
LAST-MODIFIED:20260114T081026Z
UID:1306-1787941800-1787954400@kusch-baiersdorf.de
SUMMARY:Bits'n'People
DESCRIPTION:Der Retro-Gaming-Treff in der Kulturscheune Baiersdorf \n\n\n\nVon NES bis VR: Bei Bits’n’People spielen wir gemeinsam Klassiker aus mehreren Jahrzehnten – entspannt und gesellig. Gespräche\, Nostalgie und Neuentdeckungen inklusive. \n\n\n\nWorum geht’s?Bits’n’People ist ein offener Begegnungsabend rund um klassische Videospiele. Wir bauen mehrere Spielstationen auf (z. B. NES/SNES\, Sega\, PlayStation\, Xbox\, teils auch VR) und wechseln die Systeme und Titel von Termin zu Termin. Ziel ist gemeinsames Spielen\, Erinnern\, Ausprobieren und ins Gespräch kommen. \n\n\n\nAblauf & Angebot \n\n\n\n\n18:30 Uhr Einlass\, freies Spielen – Kommen & Gehen jederzeit möglich\n\n\n\nMix aus Couch-Koop\, Rennspielen\, Jump’n’Runs\, Sport & Party-Games\n\n\n\n\nHinweise \n\n\n\nUnsere Sammlungen: Konsolen • Spiele \n\n\n\nBegrenzte Plätze (baurechtlich): max. 20 Personen – frühes Kommen lohnt sich. \n\n\n\nKeine Voranmeldung; wir führen ggf. eine kurze Warteliste vor Ort. \n\n\n\nWir freuen uns über Spenden (Spiele/Konsolen/Zubehör)
URL:https://kusch-baiersdorf.de/en/event/bitsnpeople-6/
LOCATION:Kulturscheune Baiersdorf\, Am Friedhof 2a\, Baiersdorf\, Bayern\, 91083\, Deutschland
CATEGORIES:Bits'n'People
ATTACH;FMTTYPE=image/png:https://kusch-baiersdorf.de/wp-content/uploads/2025/08/BitsnPeople-Logo-skaliert.png
ORGANIZER;CN="Kulturscheune Baiersdorf e.V.":MAILTO:kontakt@kusch-baiersdorf.de
END:VEVENT
BEGIN:VEVENT
DTSTART;TZID=Europe/Berlin:20260927T150000
DTEND;TZID=Europe/Berlin:20260927T180000
DTSTAMP:20260422T140329
CREATED:20260126T082950Z
LAST-MODIFIED:20260126T082951Z
UID:1347-1790521200-1790532000@kusch-baiersdorf.de
SUMMARY:Postgothischer Tanztee
DESCRIPTION:Früher zu düstren Klängen die Nächte durchgetanzt\, haufenweise Kajal und Haarspray verbraucht\, in Patchouly geduscht und die Wohnung ganzjährig mit Halloweendeko verschönert? Heute keine Zeit mehr dafür wegen familiärer u. a. Verpflichtungen? Um 22:00\, wenn die Parties losgehen\, fällst du eh ins Bett? Aber irgendwie fehlt es dir dann doch? Dann komm vorbei zum postgothischen Tanztee in der Kulturscheune! Wir spielen querbeet schwarzbunt\, waviges\, elektronisches\, schräges zum zuhören\, geniessen und vielleicht sogar tanzen. Alte und neue Sounds für in die Jahre gekommene Schwarzkittel und artverwandte musikalisch Interessierte.
URL:https://kusch-baiersdorf.de/en/event/postgothischer-tanztee-7/
LOCATION:Kulturscheune Baiersdorf\, Am Friedhof 2a\, Baiersdorf\, Bayern\, 91083\, Deutschland
CATEGORIES:Tanztee
ATTACH;FMTTYPE=image/png:https://kusch-baiersdorf.de/wp-content/uploads/2026/01/PT-1920-x-1080-px-09-26.png
ORGANIZER;CN="Kulturscheune Baiersdorf e.V.":MAILTO:kontakt@kusch-baiersdorf.de
END:VEVENT
BEGIN:VEVENT
DTSTART;TZID=Europe/Helsinki:20261030T183000
DTEND;TZID=Europe/Helsinki:20261030T220000
DTSTAMP:20260422T140329
CREATED:20260114T081145Z
LAST-MODIFIED:20260114T081147Z
UID:1308-1793385000-1793397600@kusch-baiersdorf.de
SUMMARY:Bits'n'People
DESCRIPTION:Der Retro-Gaming-Treff in der Kulturscheune Baiersdorf \n\n\n\nVon NES bis VR: Bei Bits’n’People spielen wir gemeinsam Klassiker aus mehreren Jahrzehnten – entspannt und gesellig. Gespräche\, Nostalgie und Neuentdeckungen inklusive. \n\n\n\nWorum geht’s?Bits’n’People ist ein offener Begegnungsabend rund um klassische Videospiele. Wir bauen mehrere Spielstationen auf (z. B. NES/SNES\, Sega\, PlayStation\, Xbox\, teils auch VR) und wechseln die Systeme und Titel von Termin zu Termin. Ziel ist gemeinsames Spielen\, Erinnern\, Ausprobieren und ins Gespräch kommen. \n\n\n\nAblauf & Angebot \n\n\n\n\n18:30 Uhr Einlass\, freies Spielen – Kommen & Gehen jederzeit möglich\n\n\n\nMix aus Couch-Koop\, Rennspielen\, Jump’n’Runs\, Sport & Party-Games\n\n\n\n\nHinweise \n\n\n\nUnsere Sammlungen: Konsolen • Spiele \n\n\n\nBegrenzte Plätze (baurechtlich): max. 20 Personen – frühes Kommen lohnt sich. \n\n\n\nKeine Voranmeldung; wir führen ggf. eine kurze Warteliste vor Ort. \n\n\n\nWir freuen uns über Spenden (Spiele/Konsolen/Zubehör)
URL:https://kusch-baiersdorf.de/en/event/bitsnpeople-7/
LOCATION:Kulturscheune Baiersdorf\, Am Friedhof 2a\, Baiersdorf\, Bayern\, 91083\, Deutschland
CATEGORIES:Bits'n'People
ATTACH;FMTTYPE=image/png:https://kusch-baiersdorf.de/wp-content/uploads/2025/08/BitsnPeople-Logo-skaliert.png
ORGANIZER;CN="Kulturscheune Baiersdorf e.V.":MAILTO:kontakt@kusch-baiersdorf.de
END:VEVENT
BEGIN:VEVENT
DTSTART;TZID=Europe/Berlin:20261122T150000
DTEND;TZID=Europe/Berlin:20261122T180000
DTSTAMP:20260422T140329
CREATED:20260126T083132Z
LAST-MODIFIED:20260126T083133Z
UID:1350-1795359600-1795370400@kusch-baiersdorf.de
SUMMARY:Postgothischer Tee
DESCRIPTION:Früher zu düstren Klängen die Nächte durchgetanzt\, haufenweise Kajal und Haarspray verbraucht\, in Patchouly geduscht und die Wohnung ganzjährig mit Halloweendeko verschönert? Heute keine Zeit mehr dafür wegen familiärer u. a. Verpflichtungen? Um 22:00\, wenn die Parties losgehen\, fällst du eh ins Bett? Aber irgendwie fehlt es dir dann doch? Dann komm vorbei zum postgothischen Tanztee in der Kulturscheune! Wir spielen querbeet schwarzbunt\, waviges\, elektronisches\, schräges zum zuhören\, geniessen und vielleicht sogar tanzen. Alte und neue Sounds für in die Jahre gekommene Schwarzkittel und artverwandte musikalisch Interessierte.
URL:https://kusch-baiersdorf.de/en/event/postgothischer-tee/
LOCATION:Kulturscheune Baiersdorf\, Am Friedhof 2a\, Baiersdorf\, Bayern\, 91083\, Deutschland
CATEGORIES:Tanztee
ATTACH;FMTTYPE=image/png:https://kusch-baiersdorf.de/wp-content/uploads/2026/01/PT-1920-x-1080-px-11-26.png
ORGANIZER;CN="Kulturscheune Baiersdorf e.V.":MAILTO:kontakt@kusch-baiersdorf.de
END:VEVENT
BEGIN:VEVENT
DTSTART;TZID=Europe/Helsinki:20261225T183000
DTEND;TZID=Europe/Helsinki:20261225T220000
DTSTAMP:20260422T140329
CREATED:20260114T081336Z
LAST-MODIFIED:20260114T081338Z
UID:1310-1798223400-1798236000@kusch-baiersdorf.de
SUMMARY:Bits'n'People
DESCRIPTION:Der Retro-Gaming-Treff in der Kulturscheune Baiersdorf \n\n\n\nVon NES bis VR: Bei Bits’n’People spielen wir gemeinsam Klassiker aus mehreren Jahrzehnten – entspannt und gesellig. Gespräche\, Nostalgie und Neuentdeckungen inklusive. \n\n\n\nWorum geht’s?Bits’n’People ist ein offener Begegnungsabend rund um klassische Videospiele. Wir bauen mehrere Spielstationen auf (z. B. NES/SNES\, Sega\, PlayStation\, Xbox\, teils auch VR) und wechseln die Systeme und Titel von Termin zu Termin. Ziel ist gemeinsames Spielen\, Erinnern\, Ausprobieren und ins Gespräch kommen. \n\n\n\nAblauf & Angebot \n\n\n\n\n18:30 Uhr Einlass\, freies Spielen – Kommen & Gehen jederzeit möglich\n\n\n\nMix aus Couch-Koop\, Rennspielen\, Jump’n’Runs\, Sport & Party-Games\n\n\n\n\nHinweise \n\n\n\nUnsere Sammlungen: Konsolen • Spiele \n\n\n\nBegrenzte Plätze (baurechtlich): max. 20 Personen – frühes Kommen lohnt sich. \n\n\n\nKeine Voranmeldung; wir führen ggf. eine kurze Warteliste vor Ort. \n\n\n\nWir freuen uns über Spenden (Spiele/Konsolen/Zubehör)
URL:https://kusch-baiersdorf.de/en/event/bitsnpeople-8/
LOCATION:Kulturscheune Baiersdorf\, Am Friedhof 2a\, Baiersdorf\, Bayern\, 91083\, Deutschland
CATEGORIES:Bits'n'People
ATTACH;FMTTYPE=image/png:https://kusch-baiersdorf.de/wp-content/uploads/2025/08/BitsnPeople-Logo-skaliert.png
ORGANIZER;CN="Kulturscheune Baiersdorf e.V.":MAILTO:kontakt@kusch-baiersdorf.de
END:VEVENT
END:VCALENDAR